BEGIN:VCALENDAR
PRODID:-//eluceo/ical//2.0/EN
VERSION:2.0
CALSCALE:GREGORIAN
BEGIN:VEVENT
UID:32073a89f198ceb1b65d89662cd3e44b
DTSTAMP:20260423T074946Z
SUMMARY:RC Locarno - Riunione conviviale in videoconferenza via Zoom
DESCRIPTION:Web stranica: https://zoom.us/
URL:https://rotarylocarno.ch/bs/agenda/show/138352
DTSTART;TZID=Europe/Zurich:20220125T183000
DTEND;TZID=Europe/Zurich:20220125T193000
LOCATION:zoom
CATEGORIES:Rotary
END:VEVENT
BEGIN:VTIMEZONE
TZID:Europe/Zurich
BEGIN:STANDARD
DTSTART:20220125T183000
TZNAME:CET
TZOFFSETTO:+0100
TZOFFSETFROM:+0100
END:STANDARD
END:VTIMEZONE
END:VCALENDAR
