BEGIN:VCALENDAR
PRODID:-//eluceo/ical//2.0/EN
VERSION:2.0
CALSCALE:GREGORIAN
BEGIN:VEVENT
UID:dd72c41bd2d1fb5c952ca26fc2e1cf75
DTSTAMP:20260423T062741Z
SUMMARY:RC Locarno - Cena conviviale (con consorti/partner) segue concerto 
 con l'associazione Verbano Musica Estate.
DESCRIPTION:Web stranica: https://www.belvedere-locarno.com\nGovornik(ci): 
 Care amiche e cari amici\,dopo la nostra cena si terrà un concerto organi
 zzato da Verbano Musica Estate\, l'associazione di giovani musicisti che s
 osteniamo con il nostro club.Non mancate a questa serata speciale di music
 a.
URL:https://rotarylocarno.ch/bs/agenda/show/138614
DTSTART;TZID=Europe/Zurich:20220322T183000
DTEND;TZID=Europe/Zurich:20220322T223000
LOCATION:Hotel Belvedere\, Via ai Monti della Trinità 44\, 6600 Locarno
CATEGORIES:Rotary
END:VEVENT
BEGIN:VTIMEZONE
TZID:Europe/Zurich
BEGIN:STANDARD
DTSTART:20220322T183000
TZNAME:CET
TZOFFSETTO:+0100
TZOFFSETFROM:+0100
END:STANDARD
END:VTIMEZONE
END:VCALENDAR
