BEGIN:VCALENDAR
PRODID:-//eluceo/ical//2.0/EN
VERSION:2.0
CALSCALE:GREGORIAN
BEGIN:VEVENT
UID:d57faa95445863c2324600ecb438dab4
DTSTAMP:20260423T055531Z
SUMMARY:RC Locarno - Conferenza di classifica Rot. Michela Snider segue ape
 ritivo e cena conviviale(con consorti/partner)
DESCRIPTION:Web stranica: https://www.belvedere-locarno.com
URL:https://rotarylocarno.ch/bs/agenda/show/138616
DTSTART;TZID=Europe/Zurich:20220405T183000
DTEND;TZID=Europe/Zurich:20220405T223000
LOCATION:Hotel Belvedere\, Via ai Monti della Trinità 44\, 6600 Locarno
CATEGORIES:Rotary
END:VEVENT
BEGIN:VTIMEZONE
TZID:Europe/Zurich
BEGIN:DAYLIGHT
DTSTART:20220405T183000
TZNAME:CEST
TZOFFSETTO:+0200
TZOFFSETFROM:+0200
END:DAYLIGHT
END:VTIMEZONE
END:VCALENDAR
