BEGIN:VCALENDAR
PRODID:-//eluceo/ical//2.0/EN
VERSION:2.0
CALSCALE:GREGORIAN
BEGIN:VEVENT
UID:82dcd98cf8a8b520bbe0abf63f2c59b3
DTSTAMP:20260421T151938Z
SUMMARY:RC Locarno - Conferenza Martine e Pierino Ghisla segue cena convivi
 ale(con consorti/partner)
DESCRIPTION:Site internet: https://www.belvedere-locarno.com
URL:https://rotarylocarno.ch/fr/agenda/show/131376
DTSTART;TZID=Europe/Zurich:20211116T183000
DTEND;TZID=Europe/Zurich:20211116T233000
LOCATION:Hotel Belvedere\, Via ai Monti della Trinità 44\, 6600 Locarno
CATEGORIES:Rotary
END:VEVENT
BEGIN:VTIMEZONE
TZID:Europe/Zurich
BEGIN:STANDARD
DTSTART:20211116T183000
TZNAME:CET
TZOFFSETTO:+0100
TZOFFSETFROM:+0100
END:STANDARD
END:VTIMEZONE
END:VCALENDAR
