BEGIN:VCALENDAR
PRODID:-//eluceo/ical//2.0/EN
VERSION:2.0
CALSCALE:GREGORIAN
BEGIN:VEVENT
UID:ff292560f1d38552548d157e3e1deb22
DTSTAMP:20260421T210758Z
SUMMARY:RC Locarno - Conferenza Arch. Arnaboldi segue cena conviviale(con c
 onsorti/partner)
DESCRIPTION:Site internet: http://www.edenroc.ch
URL:https://rotarylocarno.ch/fr/agenda/show/138607
DTSTART;TZID=Europe/Zurich:20220201T183000
DTEND;TZID=Europe/Zurich:20220201T233000
LOCATION:Hotel Eden Roc Ascona
CATEGORIES:Rotary
END:VEVENT
BEGIN:VTIMEZONE
TZID:Europe/Zurich
BEGIN:STANDARD
DTSTART:20220201T183000
TZNAME:CET
TZOFFSETTO:+0100
TZOFFSETFROM:+0100
END:STANDARD
END:VTIMEZONE
END:VCALENDAR
