BEGIN:VCALENDAR
PRODID:-//eluceo/ical//2.0/EN
VERSION:2.0
CALSCALE:GREGORIAN
BEGIN:VEVENT
UID:1a3ebc93a447c7b749af6a2701428593
DTSTAMP:20260423T104401Z
SUMMARY:RC Locarno - Conferenza A.Speziali e F.Dadò segue aperitivo e cena
  conviviale(con consorti/partner)
DESCRIPTION:Site internet: https://www.belvedere-locarno.com
URL:https://rotarylocarno.ch/fr/agenda/show/138609
DTSTART;TZID=Europe/Zurich:20220215T183000
DTEND;TZID=Europe/Zurich:20220215T223000
LOCATION:Hotel Belvedere\, Via ai Monti della Trinità 44\, 6600 Locarno
CATEGORIES:Rotary
END:VEVENT
BEGIN:VTIMEZONE
TZID:Europe/Zurich
BEGIN:STANDARD
DTSTART:20220215T183000
TZNAME:CET
TZOFFSETTO:+0100
TZOFFSETFROM:+0100
END:STANDARD
END:VTIMEZONE
END:VCALENDAR
