BEGIN:VCALENDAR
PRODID:-//eluceo/ical//2.0/EN
VERSION:2.0
CALSCALE:GREGORIAN
BEGIN:VEVENT
UID:6c332fa09cc467c52d37af5310c7766e
DTSTAMP:20260423T104206Z
SUMMARY:RC Locarno - Cade per ferie scolastiche
DESCRIPTION:Site internet: https://www.belvedere-locarno.com
URL:https://rotarylocarno.ch/fr/agenda/show/138611
DTSTART;TZID=Europe/Zurich:20220301T140000
DTEND;TZID=Europe/Zurich:20220301T140000
LOCATION:Hotel Belvedere\, Via ai Monti della Trinità 44\, 6600 Locarno
CATEGORIES:Rotary
END:VEVENT
BEGIN:VTIMEZONE
TZID:Europe/Zurich
BEGIN:STANDARD
DTSTART:20220301T140000
TZNAME:CET
TZOFFSETTO:+0100
TZOFFSETFROM:+0100
END:STANDARD
END:VTIMEZONE
END:VCALENDAR
