BEGIN:VCALENDAR
PRODID:-//eluceo/ical//2.0/EN
VERSION:2.0
CALSCALE:GREGORIAN
BEGIN:VEVENT
UID:df6f99f441dfff471af68164ac341b1b
DTSTAMP:20260421T171335Z
SUMMARY:RC Locarno - Conferenza M. Timbal e L. Pedrazzini segue aperitivo e
  cena conviviale(con consorti/partner)
DESCRIPTION:Site internet: https://www.belvedere-locarno.com
URL:https://rotarylocarno.ch/fr/agenda/show/138612
DTSTART;TZID=Europe/Zurich:20220308T183000
DTEND;TZID=Europe/Zurich:20220308T223000
LOCATION:Hotel Belvedere\, Via ai Monti della Trinità 44\, 6600 Locarno
CATEGORIES:Rotary
END:VEVENT
BEGIN:VTIMEZONE
TZID:Europe/Zurich
BEGIN:STANDARD
DTSTART:20220308T183000
TZNAME:CET
TZOFFSETTO:+0100
TZOFFSETFROM:+0100
END:STANDARD
END:VTIMEZONE
END:VCALENDAR
