BEGIN:VCALENDAR
PRODID:-//eluceo/ical//2.0/EN
VERSION:2.0
CALSCALE:GREGORIAN
BEGIN:VEVENT
UID:e593c2f7b77ec229a6b29c2e94d36e99
DTSTAMP:20260421T185305Z
SUMMARY:RC Locarno - Pranzo conviviale
DESCRIPTION:Site internet: https://www.belvedere-locarno.com
URL:https://rotarylocarno.ch/fr/agenda/show/138617
DTSTART;TZID=Europe/Zurich:20220412T121500
DTEND;TZID=Europe/Zurich:20220412T133000
LOCATION:Hotel Belvedere\, Via ai Monti della Trinità 44\, 6600 Locarno
CATEGORIES:Rotary
END:VEVENT
BEGIN:VTIMEZONE
TZID:Europe/Zurich
BEGIN:DAYLIGHT
DTSTART:20220412T121500
TZNAME:CEST
TZOFFSETTO:+0200
TZOFFSETFROM:+0200
END:DAYLIGHT
END:VTIMEZONE
END:VCALENDAR
