BEGIN:VCALENDAR
PRODID:-//eluceo/ical//2.0/EN
VERSION:2.0
CALSCALE:GREGORIAN
BEGIN:VEVENT
UID:06fb2fbe7022dd93ccfd84e5fc2a0b0e
DTSTAMP:20260421T184543Z
SUMMARY:RC Locarno -  Conf. di classifica Rot. Francesca Guscetti segue ape
 ritivo e cena conviviale(con consorti/partner)
DESCRIPTION:Site internet: https://www.belvedere-locarno.com
URL:https://rotarylocarno.ch/fr/agenda/show/138625
DTSTART;TZID=Europe/Zurich:20220524T183000
DTEND;TZID=Europe/Zurich:20220524T223000
LOCATION:Hotel Belvedere\, Via ai Monti della Trinità 44\, 6600 Locarno
CATEGORIES:Rotary
END:VEVENT
BEGIN:VTIMEZONE
TZID:Europe/Zurich
BEGIN:DAYLIGHT
DTSTART:20220524T183000
TZNAME:CEST
TZOFFSETTO:+0200
TZOFFSETFROM:+0200
END:DAYLIGHT
END:VTIMEZONE
END:VCALENDAR
