BEGIN:VCALENDAR
PRODID:-//eluceo/ical//2.0/EN
VERSION:2.0
CALSCALE:GREGORIAN
BEGIN:VEVENT
UID:3b3a8b13c3ababd12476285007bc4c6c
DTSTAMP:20260421T202019Z
SUMMARY:RC Locarno - Assemblea di passaggio delle cariche\, segue aperitivo
  e cena conviviale con consorti/partner
DESCRIPTION:Site internet: https://www.belvedere-locarno.com
URL:https://rotarylocarno.ch/fr/agenda/show/138628
DTSTART;TZID=Europe/Zurich:20220607T183000
DTEND;TZID=Europe/Zurich:20220607T223000
LOCATION:Hotel Belvedere\, Via ai Monti della Trinità 44\, 6600 Locarno
CATEGORIES:Rotary
END:VEVENT
BEGIN:VTIMEZONE
TZID:Europe/Zurich
BEGIN:DAYLIGHT
DTSTART:20220607T183000
TZNAME:CEST
TZOFFSETTO:+0200
TZOFFSETFROM:+0200
END:DAYLIGHT
END:VTIMEZONE
END:VCALENDAR
