BEGIN:VCALENDAR
PRODID:-//eluceo/ical//2.0/EN
VERSION:2.0
CALSCALE:GREGORIAN
BEGIN:VEVENT
UID:a09645f855f5e4ba99009532c23110f6
DTSTAMP:20260423T071259Z
SUMMARY:RC Locarno - Visita Malteria Ticinese- segue apericena con (ospiti/
 consorti/partner)
DESCRIPTION:Site internet: https://www.malteriaticinese.ch/\nConférencier(
 s): Manuel Bolliger\n2018 Co-Fondatore e Resp. produzione & corsi/degustaz
 ioni\n2019 Cicerone\, Certified Beer Server\n2020 Sommelier Svizzero della
  birra.\n2021 Dipl. Biersommelier - Doemens\n2022 Masters of Beer Candidat
 e
URL:https://rotarylocarno.ch/fr/agenda/show/144312
DTSTART;TZID=Europe/Zurich:20220913T183000
DTEND;TZID=Europe/Zurich:20220913T233000
LOCATION:Malteria Ticinese - A Ramél 33\, 6593 Cadenazzo
CATEGORIES:Rotary
END:VEVENT
BEGIN:VTIMEZONE
TZID:Europe/Zurich
BEGIN:DAYLIGHT
DTSTART:20220913T183000
TZNAME:CEST
TZOFFSETTO:+0200
TZOFFSETFROM:+0200
END:DAYLIGHT
END:VTIMEZONE
END:VCALENDAR
