BEGIN:VCALENDAR
PRODID:-//eluceo/ical//2.0/EN
VERSION:2.0
CALSCALE:GREGORIAN
BEGIN:VEVENT
UID:d25b7f17f16aa2dc48042d49e2dec59e
DTSTAMP:20260423T071133Z
SUMMARY:RC Locarno - Conferenza GOVERNATORE  Christine Davatz segue cena co
 nviviale con ( consorti/partner)
DESCRIPTION:Conférencier(s): GOVERNATORE Christine Davatz “BASE\, FORMA
 ZIONE\, PROFESSIONE”
URL:https://rotarylocarno.ch/fr/agenda/show/144475
DTSTART;TZID=Europe/Zurich:20221011T193000
DTEND;TZID=Europe/Zurich:20221011T193000
LOCATION:Hotel Belvedere\, Via ai Monti della Trinità 44\, 6600 Locarno
CATEGORIES:Rotary
END:VEVENT
BEGIN:VTIMEZONE
TZID:Europe/Zurich
BEGIN:DAYLIGHT
DTSTART:20221011T193000
TZNAME:CEST
TZOFFSETTO:+0200
TZOFFSETFROM:+0200
END:DAYLIGHT
END:VTIMEZONE
END:VCALENDAR
