BEGIN:VCALENDAR
PRODID:-//eluceo/ical//2.0/EN
VERSION:2.0
CALSCALE:GREGORIAN
BEGIN:VEVENT
UID:17d2673e8ab29569c753558b57c737ae
DTSTAMP:20260422T014614Z
SUMMARY:RC Locarno - Conferenza Claudia Lombardi segue cena conviviale(con 
 consorti/partner)
DESCRIPTION:Sito web: https://www.belvedere-locarno.com
URL:https://rotarylocarno.ch/it/agenda/show/131372
DTSTART;TZID=Europe/Zurich:20211019T183000
DTEND;TZID=Europe/Zurich:20211019T233000
LOCATION:Hotel Belvedere\, Via ai Monti della Trinità 44\, 6600 Locarno
CATEGORIES:Rotary
END:VEVENT
BEGIN:VTIMEZONE
TZID:Europe/Zurich
BEGIN:DAYLIGHT
DTSTART:20211019T183000
TZNAME:CEST
TZOFFSETTO:+0200
TZOFFSETFROM:+0200
END:DAYLIGHT
END:VTIMEZONE
END:VCALENDAR
