BEGIN:VCALENDAR
PRODID:-//eluceo/ical//2.0/EN
VERSION:2.0
CALSCALE:GREGORIAN
BEGIN:VEVENT
UID:0ef31c0ee776ae88b8098fad7a4bef94
DTSTAMP:20260422T015511Z
SUMMARY:RC Locarno -  MUSIC4HOPE
DESCRIPTION:Sito web: https://www.luganoconventions.com/it/strutture/palazz
 o-congressi\nRelatore/i: Il concerto di fine ottobre a Lugano con i Gottha
 rd sarà il momento clou dei festeggiamenti. Un evento fortemente voluto\,
  al quale parteciperanno anche moltissime famiglie provenienti da tutta la
  Svizzera\, che si godranno un bel programma completo durante tutto il wee
 kend.I biglietti saranno limitati\,  per questo motivo vi chiedo di iscri
 vervi al più presto entro 01.10.21.Per chi non conoscesse bene Greenhope 
 qui di seguito lo scopo della fondazione:Conferire un senso benefico allo 
 sport coinvolgendolo attivamente nell'organizzazione di eventi e attività
  volti alla raccolta di proventi destinati ai bambini malati di cancro e a
 lle loro famiglie nonché alla crescita di giovani talenti sportivi. La Fo
 ndazione Greenhope si distingue per il suo duplice impegno: lottare contro
  il cancro infantile e favorire la crescita di giovani talenti sportivi. N
 el quadro del fine stabilito\, la Fondazione è attiva in tutta la Svizzer
 a e all'estero. La Fondazione non ha scopo di lucro e non persegue alcun g
 uadagno.  
URL:https://rotarylocarno.ch/it/agenda/show/132064
DTSTART;TZID=Europe/Zurich:20211030T173000
DTEND;TZID=Europe/Zurich:20211030T234500
LOCATION:Palazzo dei congressi Lugano
CATEGORIES:Rotary
END:VEVENT
BEGIN:VTIMEZONE
TZID:Europe/Zurich
BEGIN:DAYLIGHT
DTSTART:20211030T173000
TZNAME:CEST
TZOFFSETTO:+0200
TZOFFSETFROM:+0200
END:DAYLIGHT
END:VTIMEZONE
END:VCALENDAR
