BEGIN:VCALENDAR
PRODID:-//eluceo/ical//2.0/EN
VERSION:2.0
CALSCALE:GREGORIAN
BEGIN:VEVENT
UID:bd8ec16b99951a05bc240a33e16f2d2c
DTSTAMP:20260422T040330Z
SUMMARY:RC Locarno - Pranzo conviviale
DESCRIPTION:Sito web: http://www.edenroc.ch\nRelatore/i: Care amiche e cari
  amici\,in questa occasione daremo il benvenuto alla nostra nuova socia F
 rancesca Guscetti.Vi aspetto numerosi.
URL:https://rotarylocarno.ch/it/agenda/show/138608
DTSTART;TZID=Europe/Zurich:20220208T121500
DTEND;TZID=Europe/Zurich:20220208T133000
LOCATION:Hotel Eden Roc Ascona presso ristorante Marina
CATEGORIES:Rotary
END:VEVENT
BEGIN:VTIMEZONE
TZID:Europe/Zurich
BEGIN:STANDARD
DTSTART:20220208T121500
TZNAME:CET
TZOFFSETTO:+0100
TZOFFSETFROM:+0100
END:STANDARD
END:VTIMEZONE
END:VCALENDAR
