BEGIN:VCALENDAR
PRODID:-//eluceo/ical//2.0/EN
VERSION:2.0
CALSCALE:GREGORIAN
BEGIN:VEVENT
UID:55cdbc53b805eef73c3924ba5378a706
DTSTAMP:20260422T040558Z
SUMMARY:RC Locarno - Pranzo conviviale
DESCRIPTION:Sito web: https://www.belvedere-locarno.com
URL:https://rotarylocarno.ch/it/agenda/show/138613
DTSTART;TZID=Europe/Zurich:20220315T121500
DTEND;TZID=Europe/Zurich:20220315T133000
LOCATION:Hotel Belvedere\, Via ai Monti della Trinità 44\, 6600 Locarno
CATEGORIES:Rotary
END:VEVENT
BEGIN:VTIMEZONE
TZID:Europe/Zurich
BEGIN:STANDARD
DTSTART:20220315T121500
TZNAME:CET
TZOFFSETTO:+0100
TZOFFSETFROM:+0100
END:STANDARD
END:VTIMEZONE
END:VCALENDAR
